BEGIN:VCALENDAR
VERSION:2.0
PRODID:-//AMAORM - ECPv6.3.6//NONSGML v1.0//EN
CALSCALE:GREGORIAN
METHOD:PUBLISH
X-ORIGINAL-URL:https://asociacionmerklin.es
X-WR-CALDESC:Eventos para AMAORM
REFRESH-INTERVAL;VALUE=DURATION:PT1H
X-Robots-Tag:noindex
X-PUBLISHED-TTL:PT1H
BEGIN:VTIMEZONE
TZID:Europe/Madrid
BEGIN:DAYLIGHT
TZOFFSETFROM:+0100
TZOFFSETTO:+0200
TZNAME:CEST
DTSTART:20250330T010000
END:DAYLIGHT
BEGIN:STANDARD
TZOFFSETFROM:+0200
TZOFFSETTO:+0100
TZNAME:CET
DTSTART:20251026T010000
END:STANDARD
END:VTIMEZONE
BEGIN:VEVENT
DTSTART;TZID=Europe/Madrid:20251127T203000
DTEND;TZID=Europe/Madrid:20251127T213000
DTSTAMP:20260422T222933
CREATED:20251028T171853Z
LAST-MODIFIED:20251028T171853Z
UID:507-1764275400-1764279000@asociacionmerklin.es
SUMMARY:Willibald Guggenmos
DESCRIPTION:Dentro del X Ciclo Internacional de Órgano\, el día 27 de noviembre tendrá lugar el cuarto concierto protagonizado por Willibald Guggenmos\, concertista y director del Festival Internacional de Órgano de Augsburgo (Alemania). Más información.
URL:https://asociacionmerklin.es/evento/willibald-guggenmos
LOCATION:Catedral de Murcia\, Plaza del Cardenal Belluga\, s/n\, Murcia\, Murcia\, 30001\, España
CATEGORIES:Concierto
ATTACH;FMTTYPE=image/jpeg:https://asociacionmerklin.es/wp-content/uploads/2025/10/WG.jpg
END:VEVENT
END:VCALENDAR