BEGIN:VCALENDAR
VERSION:2.0
PRODID:-//AMAORM - ECPv6.3.6//NONSGML v1.0//EN
CALSCALE:GREGORIAN
METHOD:PUBLISH
X-WR-CALNAME:AMAORM
X-ORIGINAL-URL:https://asociacionmerklin.es
X-WR-CALDESC:Eventos para AMAORM
REFRESH-INTERVAL;VALUE=DURATION:PT1H
X-Robots-Tag:noindex
X-PUBLISHED-TTL:PT1H
BEGIN:VTIMEZONE
TZID:Europe/Madrid
BEGIN:DAYLIGHT
TZOFFSETFROM:+0100
TZOFFSETTO:+0200
TZNAME:CEST
DTSTART:20240331T010000
END:DAYLIGHT
BEGIN:STANDARD
TZOFFSETFROM:+0200
TZOFFSETTO:+0100
TZNAME:CET
DTSTART:20241027T010000
END:STANDARD
BEGIN:DAYLIGHT
TZOFFSETFROM:+0100
TZOFFSETTO:+0200
TZNAME:CEST
DTSTART:20250330T010000
END:DAYLIGHT
BEGIN:STANDARD
TZOFFSETFROM:+0200
TZOFFSETTO:+0100
TZNAME:CET
DTSTART:20251026T010000
END:STANDARD
BEGIN:DAYLIGHT
TZOFFSETFROM:+0100
TZOFFSETTO:+0200
TZNAME:CEST
DTSTART:20260329T010000
END:DAYLIGHT
BEGIN:STANDARD
TZOFFSETFROM:+0200
TZOFFSETTO:+0100
TZNAME:CET
DTSTART:20261025T010000
END:STANDARD
END:VTIMEZONE
BEGIN:VEVENT
DTSTART;TZID=Europe/Madrid:20260417T210000
DTEND;TZID=Europe/Madrid:20260417T220000
DTSTAMP:20260420T130522
CREATED:20260413T163907Z
LAST-MODIFIED:20260413T165211Z
UID:590-1776459600-1776463200@asociacionmerklin.es
SUMMARY:Concierto del Azahar 2026
DESCRIPTION:Como es costumbre en el mes de abril\, el próximo concierto del ciclo Suenan los Órganos tendrá lugar en la ermita de Ntra. Sra. de la Huerta de la pedanía murciana de Los Ramos. En esta ocasión\, el organista Carlos Rafael Pérez actuará junto con la Coral Discantus en un concierto titulado “Boleros y tangos en la Huerta de Murcia”. Puedes descargar el programa del concierto aquí.
URL:https://asociacionmerklin.es/evento/concierto-del-azahar-2026
LOCATION:Ermita de Ntra. Sra.de la Huerta\, Calle Conde de Almodóvar\, Los Ramos\, Murcia\, Murcia\, 30589\, España
CATEGORIES:Concierto
ATTACH;FMTTYPE=image/jpeg:https://asociacionmerklin.es/wp-content/uploads/2026/04/los_ramos-scaled.jpg
END:VEVENT
BEGIN:VEVENT
DTSTART;TZID=Europe/Madrid:20260316T203000
DTEND;TZID=Europe/Madrid:20260316T213000
DTSTAMP:20260420T130522
CREATED:20260311T110549Z
LAST-MODIFIED:20260311T232331Z
UID:582-1773693000-1773696600@asociacionmerklin.es
SUMMARY:Murcia Sacra
DESCRIPTION:El lunes 16\, a las 20:30h\, tendrá lugar un concierto en la Iglesia Conventual de Santa Ana bajo el título En los albores del órgano moderno: Correa y su tiempo. El intérprete será Javier Artigas. Este concierto es un homenaje al maestro sevillano con motivo del aniversario de la publicación de la Facultad Orgánica (Alcalá\, 1626). \nPrograma.
URL:https://asociacionmerklin.es/evento/murcia-sacra
LOCATION:Iglesia de Las Anas\, Plaza de Santa Ana\, 2\, Murcia\, Murcia\, 30008\, España
CATEGORIES:Concierto
ATTACH;FMTTYPE=image/jpeg:https://asociacionmerklin.es/wp-content/uploads/2023/10/foto_artigas.jpeg
END:VEVENT
BEGIN:VEVENT
DTSTART;TZID=Europe/Madrid:20260305T200000
DTEND;TZID=Europe/Madrid:20260305T210000
DTSTAMP:20260420T130522
CREATED:20260302T121702Z
LAST-MODIFIED:20260302T121702Z
UID:576-1772740800-1772744400@asociacionmerklin.es
SUMMARY:Trio Palladio
DESCRIPTION:Bajo el título “Viaje musical por la Europa barroca y romántica”\, el Trio Palladio\, formado por Michele Antonello (oboe)\, Steno Boesso (fagot) y Enrico Zanovello (órgano)\, nos ofrece un programa integrado por piezas del XVIII y XIX de compositores como Giovanni Benedetto Platti\, C. P. E. Bach\, Philippe Gatterman\, Ernst Richter\, Heinrich Molbe y Alfred Hill. El concierto tendrá lugar el 5 de marzo en la iglesia del Carmen\, a las 20:00. \nPrograma del concierto.
URL:https://asociacionmerklin.es/evento/trio-palladio
LOCATION:Iglesia del Carmen\, Plaza González Conde 1\, Murcia\, Murcia\, 30002\, España
CATEGORIES:Concierto
ATTACH;FMTTYPE=image/jpeg:https://asociacionmerklin.es/wp-content/uploads/2023/10/Trio-Palladio-organo-oboe-fagotto-bio.jpg
END:VEVENT
BEGIN:VEVENT
DTSTART;TZID=Europe/Madrid:20260223T200000
DTEND;TZID=Europe/Madrid:20260223T210000
DTSTAMP:20260420T130522
CREATED:20260224T181120Z
LAST-MODIFIED:20260224T181125Z
UID:571-1771876800-1771880400@asociacionmerklin.es
SUMMARY:Marek Bochniak
DESCRIPTION:Concierto del organista polaco Marek Bochniak en la Catedral de Murcia. Puede consultar el programa aquí.
URL:https://asociacionmerklin.es/evento/marek-bochniak
LOCATION:Catedral de Murcia\, Plaza del Cardenal Belluga\, s/n\, Murcia\, Murcia\, 30001\, España
CATEGORIES:Concierto
ATTACH;FMTTYPE=image/jpeg:https://asociacionmerklin.es/wp-content/uploads/2023/10/Marek_Bochniak.jpg
END:VEVENT
BEGIN:VEVENT
DTSTART;TZID=Europe/Madrid:20260129T200000
DTEND;TZID=Europe/Madrid:20260129T210000
DTSTAMP:20260420T130522
CREATED:20260126T205652Z
LAST-MODIFIED:20260127T163411Z
UID:561-1769716800-1769720400@asociacionmerklin.es
SUMMARY:Jaime Martínez Vivancos
DESCRIPTION:El 29 de enero a las 20:00h\, en la Iglesia de San Miguel\, comenzamos el ciclo Suenan los Órganos de 2026 con el organista Jaime Martínez Vivancos. Consulta el programa aquí.
URL:https://asociacionmerklin.es/evento/jaime-martinez-vivancos
LOCATION:Iglesia de San Miguel\, Calle San Miguel 5\, Murcia\, Murcia\, 30005\, España
CATEGORIES:Concierto
ATTACH;FMTTYPE=image/jpeg:https://asociacionmerklin.es/wp-content/uploads/2026/01/Vivancos-Jaime-Martinez.jpg
END:VEVENT
BEGIN:VEVENT
DTSTART;TZID=Europe/Madrid:20251210T203000
DTEND;TZID=Europe/Madrid:20251210T213000
DTSTAMP:20260420T130522
CREATED:20251209T193256Z
LAST-MODIFIED:20251209T193332Z
UID:539-1765398600-1765402200@asociacionmerklin.es
SUMMARY:Vincenzo di Betta y Federico Mauro Marcucci
DESCRIPTION:El 10 de diciembre a las 20:30h\, en la Iglesia del Carmen\, cerramos el ciclo Suenan los Órganos de 2025 con el concierto titulado “A Voce Sola”\, integrado en su mayor parte por obras de las escuelas napolitana\, romana y véneta del siglo XVII. Los intérpretes son Federico Mauro Marcucci\, contratenor de la Capilla Pontificia Sixtina\, y Vincenzo di Betta\, organista titular de Santa María in Portico in Campitelli (Roma). Consulta el programa aquí.
URL:https://asociacionmerklin.es/evento/vincenzo-di-betta-y-federico-mauro-marcucci
LOCATION:Iglesia del Carmen\, Plaza González Conde 1\, Murcia\, Murcia\, 30002\, España
ATTACH;FMTTYPE=image/jpeg:https://asociacionmerklin.es/wp-content/uploads/2025/12/a_voce_sola.jpg
END:VEVENT
BEGIN:VEVENT
DTSTART;TZID=Europe/Madrid:20251127T203000
DTEND;TZID=Europe/Madrid:20251127T213000
DTSTAMP:20260420T130522
CREATED:20251028T171853Z
LAST-MODIFIED:20251028T171853Z
UID:507-1764275400-1764279000@asociacionmerklin.es
SUMMARY:Willibald Guggenmos
DESCRIPTION:Dentro del X Ciclo Internacional de Órgano\, el día 27 de noviembre tendrá lugar el cuarto concierto protagonizado por Willibald Guggenmos\, concertista y director del Festival Internacional de Órgano de Augsburgo (Alemania). Más información.
URL:https://asociacionmerklin.es/evento/willibald-guggenmos
LOCATION:Catedral de Murcia\, Plaza del Cardenal Belluga\, s/n\, Murcia\, Murcia\, 30001\, España
CATEGORIES:Concierto
ATTACH;FMTTYPE=image/jpeg:https://asociacionmerklin.es/wp-content/uploads/2025/10/WG.jpg
END:VEVENT
BEGIN:VEVENT
DTSTART;TZID=Europe/Madrid:20251120T203000
DTEND;TZID=Europe/Madrid:20251120T213000
DTSTAMP:20260420T130522
CREATED:20251028T171423Z
LAST-MODIFIED:20251028T171906Z
UID:503-1763670600-1763674200@asociacionmerklin.es
SUMMARY:Miguel Bernal Ripoll
DESCRIPTION:Dentro del X Ciclo Internacional de Órgano\, el día 20 de noviembre tendrá lugar el tercer concierto protagonizado por Miguel Bernal Ripoll\, catedrático de órgano del Real Conservatorio Superior de Música de Madrid y organista titular de la basílica de San Francisco el Grande (Madrid). Más Información.
URL:https://asociacionmerklin.es/evento/miguel-bernal-ripoll
LOCATION:Catedral de Murcia\, Plaza del Cardenal Belluga\, s/n\, Murcia\, Murcia\, 30001\, España
CATEGORIES:Concierto
ATTACH;FMTTYPE=image/jpeg:https://asociacionmerklin.es/wp-content/uploads/2025/10/MBR.jpg
END:VEVENT
BEGIN:VEVENT
DTSTART;TZID=Europe/Madrid:20251113T203000
DTEND;TZID=Europe/Madrid:20251113T213000
DTSTAMP:20260420T130522
CREATED:20251028T171041Z
LAST-MODIFIED:20251028T171123Z
UID:499-1763065800-1763069400@asociacionmerklin.es
SUMMARY:David Cassan
DESCRIPTION:Dentro del X Ciclo Internacional de Órgano\, el día 13 de noviembre tendrá lugar el segundo concierto protagonizado por David Cassan\, organista co-titular del gran órgano de la Iglesia de Saint-Etienne-du-Mont (París). Más información.
URL:https://asociacionmerklin.es/evento/david-cassan
LOCATION:Catedral de Murcia\, Plaza del Cardenal Belluga\, s/n\, Murcia\, Murcia\, 30001\, España
CATEGORIES:Concierto
ATTACH;FMTTYPE=image/jpeg:https://asociacionmerklin.es/wp-content/uploads/2025/10/DC.jpg
END:VEVENT
BEGIN:VEVENT
DTSTART;TZID=Europe/Madrid:20251106T203000
DTEND;TZID=Europe/Madrid:20251106T213000
DTSTAMP:20260420T130522
CREATED:20251028T170402Z
LAST-MODIFIED:20251028T170554Z
UID:492-1762461000-1762464600@asociacionmerklin.es
SUMMARY:José Luis Echechipía
DESCRIPTION:Dentro del X Ciclo Internacional de Órgano\, el día 6 de noviembre tendrá lugar el primer concierto protagonizado por José Luis Echechipía\, organista principal y responsable artístico del órgano en el Monasterio de Leyre (Navarra). Más información. \nEN COPRODUCCIÓN CON:
URL:https://asociacionmerklin.es/evento/jose-luis-echechipia
LOCATION:Catedral de Murcia\, Plaza del Cardenal Belluga\, s/n\, Murcia\, Murcia\, 30001\, España
CATEGORIES:Concierto
ATTACH;FMTTYPE=image/jpeg:https://asociacionmerklin.es/wp-content/uploads/2025/10/JLE.jpg
END:VEVENT
BEGIN:VEVENT
DTSTART;TZID=Europe/Madrid:20251023T203000
DTEND;TZID=Europe/Madrid:20251023T213000
DTSTAMP:20260420T130522
CREATED:20251020T081652Z
LAST-MODIFIED:20251020T081916Z
UID:460-1761251400-1761255000@asociacionmerklin.es
SUMMARY:Fabio Macera
DESCRIPTION:PROGRAMA \nCésar Franck (1822-1890) \nTroisième Choral \nJoseph Bonnet (1884-1944) \nPastorale\, Op. 7 N. 9 \nOskar Merikanto (1868-1924) \nValse lente (Trascrizione per organo) \nChristian Heinrich Rinck (1770-1846) \nVariazioni sopra un tema di Corelli Op. 56 \nJoseph Gabriel Rheinberger (1839-1901) \nPräludium \nCamille Saint-Saëns (1835-1921) \nBénédiction Nuptiale Op.9 \nLouis Vierne (1970-1937) \nAndantino (da “24 Pièces de fantaisie”\, op. 51) \nHymne au soleil (da “24 Piéces de fantaisie”\, Op. 53) \n\nFabio Macera realizó sus estudios musicales con el maestro E. Traverso\, obteniendo el Diploma en Órgano y Composición Organística en el Conservatorio “G. Cantelli” de Novara. Profundizó en diversos aspectos interpretativos y de práctica ejecutiva durante cursos impartidos por distinguidos maestros como H. Vogel\, Chr. Stembridge\, D. Hunter\, M. Radulescu y G. Bovet. Asimismo\, se perfeccionó en música antigua y sinfónica francesa con J.P. Lecaudey en la École de Musique de Saint-Rémy-de-Provence. \nHa ofrecido conciertos en Italia y en el extranjero\, participando en varios festivales y ciclos de música organística\, tanto como solista como acompañante de cantantes solistas\, coros e instrumentistas. En diciembre de 2015 participó en las “Auditions d’orgue” en la Catedral de Notre-Dame de París y en 2017 en “Les Dimanches Musicaux de La Madeleine”. \nEn 2016\, la revista de cultura musical y discográfica Musica otorgó cinco estrellas a su CD Armonie d’Organo tra Ottocento e Novecento\, editado por la discográfica francesa Fugatto.  Recientemente publicó el CD monográfico dedicado a la obra organística del salesiano Giovanni Maria Pelazza\, editado por el sello Brilliant Classics. \nHa sido profesor en el Instituto Diocesano de Música Sacra “G.B. Campodonico” de Chiavari y formó parte de la Comisión Diocesana para los órganos\, con la cual colaboró en la catalogación de instrumentos y en la realización del volumen Gli Organi della Diocesi di Chiavari\, editado con motivo del Jubileo del año 2000. Es catalogador de instrumentos en territorio nacional\, autorizado por el Instituto Central para el Catálogo y la Documentación (ICCD) del Ministerio de Cultura y por la Oficina Nacional para los Bienes Culturales Eclesiásticos y la Edificación de Edificios de Culto de la Conferencia Episcopal Italiana. Cuenta con numerosos ensayos y artículos publicados en revistas especializadas\, además de su participación en congresos y mesas redondas como ponente. \nEs Presidente y Director Artístico de la Asociación Cultural “Rapallo Musica”\, así como Director Artístico del Festival Organístico Internacional Armonie Sacre percorrendo le Terre di Liguria. Ejerce su actividad como organista desde 1988 en el histórico órgano Serassi del Santuario del SS. Crocifisso de Borzonasca y\, desde 1996\, en la Basílica Arciprestal de los Santos Gervasio y Protasio de Rapallo.
URL:https://asociacionmerklin.es/evento/fabio-macera
LOCATION:Iglesia del Carmen\, Plaza González Conde 1\, Murcia\, Murcia\, 30002\, España
CATEGORIES:Concierto
ATTACH;FMTTYPE=image/jpeg:https://asociacionmerklin.es/wp-content/uploads/2023/10/Fabio_Macera.jpg
END:VEVENT
BEGIN:VEVENT
DTSTART;TZID=Europe/Madrid:20250620T200000
DTEND;TZID=Europe/Madrid:20250620T210000
DTSTAMP:20260420T130522
CREATED:20250619T155413Z
LAST-MODIFIED:20250619T155413Z
UID:444-1750449600-1750453200@asociacionmerklin.es
SUMMARY:Stefano Pellini y Francesco Gibellini
DESCRIPTION:El viernes 20 de junio\, a las 20:00h\, tendrá lugar un nuevo concierto del ciclo “Suenan los Órganos” en la Iglesia del Carmen de Murcia. Los protagonistas del concierto serán el organista Stefano Pellini y el trompetista Francesco Gibellini. \nPrograma del concierto
URL:https://asociacionmerklin.es/evento/stefano-pellini-y-francesco-gibellini
LOCATION:Iglesia del Carmen\, Plaza González Conde 1\, Murcia\, Murcia\, 30002\, España
CATEGORIES:Concierto
ATTACH;FMTTYPE=image/jpeg:https://asociacionmerklin.es/wp-content/uploads/2025/06/pellini.jpg
END:VEVENT
BEGIN:VEVENT
DTSTART;TZID=Europe/Madrid:20250522T203000
DTEND;TZID=Europe/Madrid:20250522T213000
DTSTAMP:20260420T130522
CREATED:20250519T090827Z
LAST-MODIFIED:20250519T091207Z
UID:436-1747945800-1747949400@asociacionmerklin.es
SUMMARY:Las Moradas de los Ministriles
DESCRIPTION:Concierto de los Ministriles de Marsias y el organista Javier Artigas dentro de la programación del Festival Murcia Tres Culturas. \nhttps://murciatresculturas.murcia.es/ficha14.html
URL:https://asociacionmerklin.es/evento/las-moradas-de-los-ministriles
LOCATION:Iglesia de Las Anas\, Plaza de Santa Ana\, 2\, Murcia\, Murcia\, 30008\, España
CATEGORIES:Concierto
ATTACH;FMTTYPE=image/jpeg:https://asociacionmerklin.es/wp-content/uploads/2025/05/2025-MinistrilesMarsias-scaled.jpg
END:VEVENT
BEGIN:VEVENT
DTSTART;TZID=Europe/Madrid:20250404T210000
DTEND;TZID=Europe/Madrid:20250404T220000
DTSTAMP:20260420T130522
CREATED:20250331T114435Z
LAST-MODIFIED:20250331T114540Z
UID:430-1743800400-1743804000@asociacionmerklin.es
SUMMARY:Concierto del Azahar
DESCRIPTION:El Concierto del Azahar en la Ermita de Nuestra Señora de La Huerta en Los Ramos es una de las citas más populares del ciclo de conciertos “Suenan los órganos”. En pleno corazón de la huerta de Murcia\, junto a Carlos Rafael Pérez\, organista titular de San Miguel de Murcia\, actuará el Coro de Castañuelas de Murcia (ACASTAMUR). \nPrograma del concierto.
URL:https://asociacionmerklin.es/evento/concierto-del-azahar
LOCATION:Ermita de Ntra. Sra.de la Huerta\, Calle Conde de Almodóvar\, Los Ramos\, Murcia\, Murcia\, 30589\, España
CATEGORIES:Concierto
ATTACH;FMTTYPE=image/jpeg:https://asociacionmerklin.es/wp-content/uploads/2024/03/carlos_rafael_perez.jpg
END:VEVENT
BEGIN:VEVENT
DTSTART;TZID=Europe/Madrid:20250320T200000
DTEND;TZID=Europe/Madrid:20250320T210000
DTSTAMP:20260420T130522
CREATED:20250317T124309Z
LAST-MODIFIED:20250317T151418Z
UID:419-1742500800-1742504400@asociacionmerklin.es
SUMMARY:Olalla Alemán y Luis Antonio González
DESCRIPTION:La soprano Olalla Alemán y el organista Luis Antonio González ofrecerán el jueves 20 de marzo un concierto bajo el título “Pianto della Madonna”. El concierto tendrá lugar en la Iglesia de San Miguel a las 20:00h. Es el tercer concierto del ciclo “Suenan los Órganos” del año 2025\, ciclo coordinado por la Asociación Merklin de Amigos del Órgano de la Región de Murcia\, con la colaboración de la Concejalía de Cultura e Identidad del Ayuntamiento de Murcia. \nPROGRAMA
URL:https://asociacionmerklin.es/evento/olalla-aleman-y-luis-antonio-gonzalez
LOCATION:Iglesia de San Miguel\, Calle San Miguel 5\, Murcia\, Murcia\, 30005\, España
ATTACH;FMTTYPE=image/jpeg:https://asociacionmerklin.es/wp-content/uploads/2025/03/olalla_aleman_luis_antonio_gonzalez.jpg
END:VEVENT
BEGIN:VEVENT
DTSTART;TZID=Europe/Madrid:20250220T200000
DTEND;TZID=Europe/Madrid:20250220T210000
DTSTAMP:20260420T130522
CREATED:20250214T111517Z
LAST-MODIFIED:20250214T111633Z
UID:406-1740081600-1740085200@asociacionmerklin.es
SUMMARY:Alberto Mammarella
DESCRIPTION:Concierto dentro del ciclo Suenan los Órganos. \nAlberto Mammarella es licenciado en órgano\, composición para órgano y clavecín\, realizó estudios de perfeccionamiento con los profesores Radulescu\, Zerer\, Murray y Tagliavini. Paralelamente a sus estudios musicales\, completó sus estudios humanísticos\, licenciándose en Literatura Moderna en la Universidad de Chieti y obteniendo el título de Doctor en Musicología en la Universidad de Pavía. Es autor de ediciones críticas (Nicola Tortamano\, Messe a 4 y 8 voci con basso continuo\, LIM; Ippolito Sabino\, Il primo Primo Libro de Madrigali a cinque voci\, Bongiovanni; Antonio Brunelli\, Prato di Sacri fiori musica ETS\, Giovanni Pierluigi da Palestrina\, Missarum liber quintus\, en prensa)\, de estudios de carácter organológico y musicológico\, publicados en diferentes revistas de impacto\, así como de numerosas entradas para la nueva edición del prestigioso diccionario Die Musik in Geschichte und Gegenwart y también del Dizionario Biografico degli Italiani (Treccani). Fue profesor de historia de la música medieval y renacentista en la Universidad D’Annunzio de Chieti\, y actualmente enseña historia de la música en el conservatorio de música Luisa D’Annunzio de Pescara. De 2008 a 2010 fue Director del Istituto Nazionale Tostiano de Ortona. Invitado a inaugurar numerosas restauraciones de órganos antiguos\, realiza actividades concertísticas como organista y clavecinista en Italia y en el extranjero. \nPROGRAMA
URL:https://asociacionmerklin.es/evento/alberto-mammarella
LOCATION:Iglesia de San Miguel\, Calle San Miguel 5\, Murcia\, Murcia\, 30005\, España
CATEGORIES:Concierto
ATTACH;FMTTYPE=image/jpeg:https://asociacionmerklin.es/wp-content/uploads/2023/10/alberto_mammarella.jpg
END:VEVENT
BEGIN:VEVENT
DTSTART;TZID=Europe/Madrid:20250123T200000
DTEND;TZID=Europe/Madrid:20250123T210000
DTSTAMP:20260420T130522
CREATED:20250120T120519Z
LAST-MODIFIED:20250121T221924Z
UID:394-1737662400-1737666000@asociacionmerklin.es
SUMMARY:Berenguer Montserrat
DESCRIPTION:Concierto dentro del ciclo “Suenan los Órganos”. Berenguer Montserrat ha cursado los estudios superiores de órgano en la\nEscola Superior de Música de Catalunya (ESMUC) con Óscar Candendo y en colaboración con la Hochschule für Musik und Darstellende Kunst Stuttgart con Nathan Laube. \nColabora activamente en la recuperación del patrimonio organístico y litúrgico de compositores locales y es cofundador de la Associació d’Amics dels Orgues de Vilafranca\, dedicada a la conservación de los instrumentos de la zona y a la divulgación de la música para órgano. \nPROGRAMA \nhttps://berenguermontserratrobert.com\nhttps://orguesdevilafranca.cat
URL:https://asociacionmerklin.es/evento/berenguer-montserrat
LOCATION:Iglesia del Carmen\, Plaza González Conde 1\, Murcia\, Murcia\, 30002\, España
CATEGORIES:Concierto
ATTACH;FMTTYPE=image/jpeg:https://asociacionmerklin.es/wp-content/uploads/2025/01/berenguer_montserrat.jpg
END:VEVENT
BEGIN:VEVENT
DTSTART;TZID=Europe/Madrid:20241223T193000
DTEND;TZID=Europe/Madrid:20241223T203000
DTSTAMP:20260420T130522
CREATED:20241223T090830Z
LAST-MODIFIED:20241223T090912Z
UID:383-1734982200-1734985800@asociacionmerklin.es
SUMMARY:El Órgano en la Navidad Europea
DESCRIPTION:El 23 de diciembre a las 19:30 va a tener lugar un concierto titulado “El Órgano en la Navidad Europea” en la iglesia del Carmen de Murcia\, ofrecido por Javier Artigas. Podéis consultar el programa en el siguiente enlace. ¡Os esperamos! \nCarmen 2024. Programa.Navidad
URL:https://asociacionmerklin.es/evento/el-organo-en-la-navidad-europea
LOCATION:Iglesia del Carmen\, Plaza González Conde 1\, Murcia\, Murcia\, 30002\, España
CATEGORIES:Concierto
ATTACH;FMTTYPE=image/jpeg:https://asociacionmerklin.es/wp-content/uploads/2023/10/el_carmen.jpg
END:VEVENT
BEGIN:VEVENT
DTSTART;TZID=Europe/Madrid:20241212T203000
DTEND;TZID=Europe/Madrid:20241212T213000
DTSTAMP:20260420T130522
CREATED:20241026T194454Z
LAST-MODIFIED:20241026T194454Z
UID:359-1734035400-1734039000@asociacionmerklin.es
SUMMARY:Benantzi Bilbao
DESCRIPTION:Concierto dentro del ciclo “Suenan los Órganos”. Benantzi Bilbao es profesor de órgano y clave del Conservatorio “Guitarrista José Tomás” de Alicante. En breve publicaremos el programa.
URL:https://asociacionmerklin.es/evento/benantzi-bilbao
LOCATION:Iglesia de Las Anas\, Plaza de Santa Ana\, 2\, Murcia\, Murcia\, 30008\, España
CATEGORIES:Concierto
ATTACH;FMTTYPE=image/jpeg:https://asociacionmerklin.es/wp-content/uploads/2024/10/benantzi_bilbao.jpg
END:VEVENT
BEGIN:VEVENT
DTSTART;TZID=Europe/Madrid:20241128T193000
DTEND;TZID=Europe/Madrid:20241128T203000
DTSTAMP:20260420T130522
CREATED:20241026T193452Z
LAST-MODIFIED:20241026T193452Z
UID:355-1732822200-1732825800@asociacionmerklin.es
SUMMARY:Alessio Corti
DESCRIPTION:Cuarto concierto del IX Ciclo Internacional de Órgano Murcia 2024. Alessio Corti es organista de la Iglesia de Santa María Secreta de Milán y profesor de órgano e improvisación del Conservatorio Superior de Ginebra. Programa del concierto.
URL:https://asociacionmerklin.es/evento/alessio-corti
LOCATION:Catedral de Murcia\, Plaza del Cardenal Belluga\, s/n\, Murcia\, Murcia\, 30001\, España
CATEGORIES:Concierto
ATTACH;FMTTYPE=image/jpeg:https://asociacionmerklin.es/wp-content/uploads/2024/10/alessio_corti-1.jpg
END:VEVENT
BEGIN:VEVENT
DTSTART;TZID=Europe/Madrid:20241121T203000
DTEND;TZID=Europe/Madrid:20241121T213000
DTSTAMP:20260420T130522
CREATED:20241026T192954Z
LAST-MODIFIED:20241026T192954Z
UID:352-1732221000-1732224600@asociacionmerklin.es
SUMMARY:François Espinasse
DESCRIPTION:Tercer concierto del IX Ciclo Internacional de Órgano Murcia 2024. François Espinasse es organista de la Iglesia de Saint-Séverin de París y profesor de órgano del Conservatorio Nacional Superior de Música de Lyon. Programa del concierto.
URL:https://asociacionmerklin.es/evento/francois-espinasse
LOCATION:Catedral de Murcia\, Plaza del Cardenal Belluga\, s/n\, Murcia\, Murcia\, 30001\, España
CATEGORIES:Concierto
ATTACH;FMTTYPE=image/jpeg:https://asociacionmerklin.es/wp-content/uploads/2024/10/francois_espinasse-1.jpg
END:VEVENT
BEGIN:VEVENT
DTSTART;TZID=Europe/Madrid:20241114T203000
DTEND;TZID=Europe/Madrid:20241114T213000
DTSTAMP:20260420T130522
CREATED:20241026T192420Z
LAST-MODIFIED:20241026T192420Z
UID:350-1731616200-1731619800@asociacionmerklin.es
SUMMARY:Gabriele Agrimonti
DESCRIPTION:Segundo concierto del IX Ciclo Internacional de Órgano Murcia 2024. Gabriele Agrimonti es organista de la Iglesia Nacional de San Luis de los Franceses de Roma y concertista internacional. Programa del concierto.
URL:https://asociacionmerklin.es/evento/gabriele-agrimonti
LOCATION:Catedral de Murcia\, Plaza del Cardenal Belluga\, s/n\, Murcia\, Murcia\, 30001\, España
CATEGORIES:Concierto
ATTACH;FMTTYPE=image/jpeg:https://asociacionmerklin.es/wp-content/uploads/2024/10/gabriele_agrimonti-1.jpg
END:VEVENT
BEGIN:VEVENT
DTSTART;TZID=Europe/Madrid:20241107T203000
DTEND;TZID=Europe/Madrid:20241107T213000
DTSTAMP:20260420T130522
CREATED:20241026T185924Z
LAST-MODIFIED:20241026T185924Z
UID:346-1731011400-1731015000@asociacionmerklin.es
SUMMARY:Richard McVeigh
DESCRIPTION:Primer concierto del IX Ciclo Internacional de Órgano Murcia 2024. Richard McVeigh es organista de la Catedral de Arundel y director musical de la Abadía de Romsey (Inglaterra). Programa del concierto.
URL:https://asociacionmerklin.es/evento/richard-mcveigh
LOCATION:Catedral de Murcia\, Plaza del Cardenal Belluga\, s/n\, Murcia\, Murcia\, 30001\, España
CATEGORIES:Concierto
ATTACH;FMTTYPE=image/jpeg:https://asociacionmerklin.es/wp-content/uploads/2024/10/richard_mcveigh-1.jpg
END:VEVENT
BEGIN:VEVENT
DTSTART;TZID=Europe/Madrid:20241019T210000
DTEND;TZID=Europe/Madrid:20241019T220000
DTSTAMP:20260420T130522
CREATED:20241008T115056Z
LAST-MODIFIED:20241016T144838Z
UID:274-1729371600-1729375200@asociacionmerklin.es
SUMMARY:Schola Antiqua\, Fernando Sánchez y Javier Artigas
DESCRIPTION:El sábado 19 de octubre\, a las 21:00\, tendremos la ocasión de disfrutar de un concierto de Schola Antiqua con Ministriles de Marsias (Fernando Sánchez – bajón – y Javier Artigas – órgano) en la Iglesia de San Miguel de Murcia. \nPrograma del concierto
URL:https://asociacionmerklin.es/evento/schola-antiqua-fernando-sanchez-y-javier-artigas
LOCATION:Iglesia de San Miguel\, Calle San Miguel 5\, Murcia\, Murcia\, 30005\, España
ATTACH;FMTTYPE=image/jpeg:https://asociacionmerklin.es/wp-content/uploads/2023/10/scholaantiqua.jpg
END:VEVENT
BEGIN:VEVENT
DTSTART;TZID=Europe/Madrid:20240613T203000
DTEND;TZID=Europe/Madrid:20240613T213000
DTSTAMP:20260420T130522
CREATED:20241007T110640Z
LAST-MODIFIED:20241007T110646Z
UID:269-1718310600-1718314200@asociacionmerklin.es
SUMMARY:Umberto Forni
DESCRIPTION:Organista titular de la Iglesia de Santa Maria in Organo de Verona e inspector para la conservación de los órganos del Véneto. \nPrograma del concierto.
URL:https://asociacionmerklin.es/evento/umberto-forni
LOCATION:Iglesia del Carmen\, Plaza González Conde 1\, Murcia\, Murcia\, 30002\, España
CATEGORIES:Concierto
ATTACH;FMTTYPE=image/jpeg:https://asociacionmerklin.es/wp-content/uploads/2024/06/umberto_forni.jpg
END:VEVENT
BEGIN:VEVENT
DTSTART;TZID=Europe/Madrid:20240412T210000
DTEND;TZID=Europe/Madrid:20240412T220000
DTSTAMP:20260420T130522
CREATED:20240304T173310Z
LAST-MODIFIED:20240409T110643Z
UID:216-1712955600-1712959200@asociacionmerklin.es
SUMMARY:Carlos Rafael Pérez
DESCRIPTION:Concierto del Azahar en la Ermita de Nuestra Señora de La Huerta en Los Ramos. \nCarlos Rafael Pérez es el organista titular de San Miguel de Murcia. Actuará junto con Iñaki Verástegui (flauta) y Martín Armas (tenor). \nPrograma del concierto.
URL:https://asociacionmerklin.es/evento/carlos-rafael-perez
LOCATION:Ermita de Ntra. Sra.de la Huerta\, Calle Conde de Almodóvar\, Los Ramos\, Murcia\, Murcia\, 30589\, España
CATEGORIES:Concierto
ATTACH;FMTTYPE=image/jpeg:https://asociacionmerklin.es/wp-content/uploads/2024/03/carlos_rafael_perez.jpg
END:VEVENT
BEGIN:VEVENT
DTSTART;TZID=Europe/Madrid:20240307T203000
DTEND;TZID=Europe/Madrid:20240307T213000
DTSTAMP:20260420T130522
CREATED:20240304T164131Z
LAST-MODIFIED:20240304T171843Z
UID:204-1709843400-1709847000@asociacionmerklin.es
SUMMARY:António M. Esteireiro
DESCRIPTION:Catedrático de órgano del Conservatorio “Calouste Gulbenkian” de Aveiro y docente del Instituto Gregoriano de Lisboa. \nPrograma del concierto.
URL:https://asociacionmerklin.es/evento/antonio-esteireiro
LOCATION:Iglesia del Carmen\, Plaza González Conde 1\, Murcia\, Murcia\, 30002\, España
CATEGORIES:Concierto
ATTACH;FMTTYPE=image/jpeg:https://asociacionmerklin.es/wp-content/uploads/2023/10/antonio_esteireiro.jpg
END:VEVENT
BEGIN:VEVENT
DTSTART;TZID=Europe/Madrid:20240215T200000
DTEND;TZID=Europe/Madrid:20240215T210000
DTSTAMP:20260420T130522
CREATED:20240304T163813Z
LAST-MODIFIED:20240304T171807Z
UID:201-1708027200-1708030800@asociacionmerklin.es
SUMMARY:Olimpio Medori y Mara Fanelli
DESCRIPTION:Olimpio Medori (órgano): Organista emérito de la Iglesia de San Filippo Neri de Florencia.\nMara Fanelli (clave): Catedrática de clavecín y teclados históricos en el Conservatorio “Giacomo Puccini” de La Spezia. \nPrograma del concierto.
URL:https://asociacionmerklin.es/evento/olimpio-medori-y-mara-fanelli
LOCATION:San Juan de Dios\, Calle Eulogio Soriano 4\, Murcia\, Murcia\, 30001\, España
CATEGORIES:Concierto
ATTACH;FMTTYPE=image/jpeg:https://asociacionmerklin.es/wp-content/uploads/2023/10/olimpio_mara.jpg
END:VEVENT
BEGIN:VEVENT
DTSTART;TZID=Europe/Madrid:20240118T203000
DTEND;TZID=Europe/Madrid:20240118T213000
DTSTAMP:20260420T130522
CREATED:20240304T153828Z
LAST-MODIFIED:20240304T171726Z
UID:193-1705609800-1705613400@asociacionmerklin.es
SUMMARY:Jaime González-Sierra
DESCRIPTION:Organista de la Basílica Pontificia de San Miguel de Madrid\, y de la Cripta de la Sagrada Familia de Barcelona. \nPrograma del concierto.
URL:https://asociacionmerklin.es/evento/jaime-gonzalez-sierra
LOCATION:Iglesia de San Miguel\, Calle San Miguel 5\, Murcia\, Murcia\, 30005\, España
CATEGORIES:Concierto
ATTACH;FMTTYPE=image/jpeg:https://asociacionmerklin.es/wp-content/uploads/2023/10/jaime_gonzalez_sierra.jpg
END:VEVENT
END:VCALENDAR