BEGIN:VCALENDAR
VERSION:2.0
PRODID:-//AMAORM - ECPv6.3.6//NONSGML v1.0//EN
CALSCALE:GREGORIAN
METHOD:PUBLISH
X-ORIGINAL-URL:https://asociacionmerklin.es
X-WR-CALDESC:Eventos para AMAORM
REFRESH-INTERVAL;VALUE=DURATION:PT1H
X-Robots-Tag:noindex
X-PUBLISHED-TTL:PT1H
BEGIN:VTIMEZONE
TZID:Europe/Madrid
BEGIN:DAYLIGHT
TZOFFSETFROM:+0100
TZOFFSETTO:+0200
TZNAME:CEST
DTSTART:20250330T010000
END:DAYLIGHT
BEGIN:STANDARD
TZOFFSETFROM:+0200
TZOFFSETTO:+0100
TZNAME:CET
DTSTART:20251026T010000
END:STANDARD
BEGIN:DAYLIGHT
TZOFFSETFROM:+0100
TZOFFSETTO:+0200
TZNAME:CEST
DTSTART:20260329T010000
END:DAYLIGHT
BEGIN:STANDARD
TZOFFSETFROM:+0200
TZOFFSETTO:+0100
TZNAME:CET
DTSTART:20261025T010000
END:STANDARD
END:VTIMEZONE
BEGIN:VEVENT
DTSTART;TZID=Europe/Madrid:20251023T203000
DTEND;TZID=Europe/Madrid:20251023T213000
DTSTAMP:20260423T005645
CREATED:20251020T081652Z
LAST-MODIFIED:20251020T081916Z
UID:460-1761251400-1761255000@asociacionmerklin.es
SUMMARY:Fabio Macera
DESCRIPTION:PROGRAMA \nCésar Franck (1822-1890) \nTroisième Choral \nJoseph Bonnet (1884-1944) \nPastorale\, Op. 7 N. 9 \nOskar Merikanto (1868-1924) \nValse lente (Trascrizione per organo) \nChristian Heinrich Rinck (1770-1846) \nVariazioni sopra un tema di Corelli Op. 56 \nJoseph Gabriel Rheinberger (1839-1901) \nPräludium \nCamille Saint-Saëns (1835-1921) \nBénédiction Nuptiale Op.9 \nLouis Vierne (1970-1937) \nAndantino (da “24 Pièces de fantaisie”\, op. 51) \nHymne au soleil (da “24 Piéces de fantaisie”\, Op. 53) \n\nFabio Macera realizó sus estudios musicales con el maestro E. Traverso\, obteniendo el Diploma en Órgano y Composición Organística en el Conservatorio “G. Cantelli” de Novara. Profundizó en diversos aspectos interpretativos y de práctica ejecutiva durante cursos impartidos por distinguidos maestros como H. Vogel\, Chr. Stembridge\, D. Hunter\, M. Radulescu y G. Bovet. Asimismo\, se perfeccionó en música antigua y sinfónica francesa con J.P. Lecaudey en la École de Musique de Saint-Rémy-de-Provence. \nHa ofrecido conciertos en Italia y en el extranjero\, participando en varios festivales y ciclos de música organística\, tanto como solista como acompañante de cantantes solistas\, coros e instrumentistas. En diciembre de 2015 participó en las “Auditions d’orgue” en la Catedral de Notre-Dame de París y en 2017 en “Les Dimanches Musicaux de La Madeleine”. \nEn 2016\, la revista de cultura musical y discográfica Musica otorgó cinco estrellas a su CD Armonie d’Organo tra Ottocento e Novecento\, editado por la discográfica francesa Fugatto.  Recientemente publicó el CD monográfico dedicado a la obra organística del salesiano Giovanni Maria Pelazza\, editado por el sello Brilliant Classics. \nHa sido profesor en el Instituto Diocesano de Música Sacra “G.B. Campodonico” de Chiavari y formó parte de la Comisión Diocesana para los órganos\, con la cual colaboró en la catalogación de instrumentos y en la realización del volumen Gli Organi della Diocesi di Chiavari\, editado con motivo del Jubileo del año 2000. Es catalogador de instrumentos en territorio nacional\, autorizado por el Instituto Central para el Catálogo y la Documentación (ICCD) del Ministerio de Cultura y por la Oficina Nacional para los Bienes Culturales Eclesiásticos y la Edificación de Edificios de Culto de la Conferencia Episcopal Italiana. Cuenta con numerosos ensayos y artículos publicados en revistas especializadas\, además de su participación en congresos y mesas redondas como ponente. \nEs Presidente y Director Artístico de la Asociación Cultural “Rapallo Musica”\, así como Director Artístico del Festival Organístico Internacional Armonie Sacre percorrendo le Terre di Liguria. Ejerce su actividad como organista desde 1988 en el histórico órgano Serassi del Santuario del SS. Crocifisso de Borzonasca y\, desde 1996\, en la Basílica Arciprestal de los Santos Gervasio y Protasio de Rapallo.
URL:https://asociacionmerklin.es/evento/fabio-macera
LOCATION:Iglesia del Carmen\, Plaza González Conde 1\, Murcia\, Murcia\, 30002\, España
CATEGORIES:Concierto
ATTACH;FMTTYPE=image/jpeg:https://asociacionmerklin.es/wp-content/uploads/2023/10/Fabio_Macera.jpg
END:VEVENT
BEGIN:VEVENT
DTSTART;TZID=Europe/Madrid:20251106T203000
DTEND;TZID=Europe/Madrid:20251106T213000
DTSTAMP:20260423T005645
CREATED:20251028T170402Z
LAST-MODIFIED:20251028T170554Z
UID:492-1762461000-1762464600@asociacionmerklin.es
SUMMARY:José Luis Echechipía
DESCRIPTION:Dentro del X Ciclo Internacional de Órgano\, el día 6 de noviembre tendrá lugar el primer concierto protagonizado por José Luis Echechipía\, organista principal y responsable artístico del órgano en el Monasterio de Leyre (Navarra). Más información. \nEN COPRODUCCIÓN CON:
URL:https://asociacionmerklin.es/evento/jose-luis-echechipia
LOCATION:Catedral de Murcia\, Plaza del Cardenal Belluga\, s/n\, Murcia\, Murcia\, 30001\, España
CATEGORIES:Concierto
ATTACH;FMTTYPE=image/jpeg:https://asociacionmerklin.es/wp-content/uploads/2025/10/JLE.jpg
END:VEVENT
BEGIN:VEVENT
DTSTART;TZID=Europe/Madrid:20251113T203000
DTEND;TZID=Europe/Madrid:20251113T213000
DTSTAMP:20260423T005645
CREATED:20251028T171041Z
LAST-MODIFIED:20251028T171123Z
UID:499-1763065800-1763069400@asociacionmerklin.es
SUMMARY:David Cassan
DESCRIPTION:Dentro del X Ciclo Internacional de Órgano\, el día 13 de noviembre tendrá lugar el segundo concierto protagonizado por David Cassan\, organista co-titular del gran órgano de la Iglesia de Saint-Etienne-du-Mont (París). Más información.
URL:https://asociacionmerklin.es/evento/david-cassan
LOCATION:Catedral de Murcia\, Plaza del Cardenal Belluga\, s/n\, Murcia\, Murcia\, 30001\, España
CATEGORIES:Concierto
ATTACH;FMTTYPE=image/jpeg:https://asociacionmerklin.es/wp-content/uploads/2025/10/DC.jpg
END:VEVENT
BEGIN:VEVENT
DTSTART;TZID=Europe/Madrid:20251120T203000
DTEND;TZID=Europe/Madrid:20251120T213000
DTSTAMP:20260423T005645
CREATED:20251028T171423Z
LAST-MODIFIED:20251028T171906Z
UID:503-1763670600-1763674200@asociacionmerklin.es
SUMMARY:Miguel Bernal Ripoll
DESCRIPTION:Dentro del X Ciclo Internacional de Órgano\, el día 20 de noviembre tendrá lugar el tercer concierto protagonizado por Miguel Bernal Ripoll\, catedrático de órgano del Real Conservatorio Superior de Música de Madrid y organista titular de la basílica de San Francisco el Grande (Madrid). Más Información.
URL:https://asociacionmerklin.es/evento/miguel-bernal-ripoll
LOCATION:Catedral de Murcia\, Plaza del Cardenal Belluga\, s/n\, Murcia\, Murcia\, 30001\, España
CATEGORIES:Concierto
ATTACH;FMTTYPE=image/jpeg:https://asociacionmerklin.es/wp-content/uploads/2025/10/MBR.jpg
END:VEVENT
BEGIN:VEVENT
DTSTART;TZID=Europe/Madrid:20251127T203000
DTEND;TZID=Europe/Madrid:20251127T213000
DTSTAMP:20260423T005645
CREATED:20251028T171853Z
LAST-MODIFIED:20251028T171853Z
UID:507-1764275400-1764279000@asociacionmerklin.es
SUMMARY:Willibald Guggenmos
DESCRIPTION:Dentro del X Ciclo Internacional de Órgano\, el día 27 de noviembre tendrá lugar el cuarto concierto protagonizado por Willibald Guggenmos\, concertista y director del Festival Internacional de Órgano de Augsburgo (Alemania). Más información.
URL:https://asociacionmerklin.es/evento/willibald-guggenmos
LOCATION:Catedral de Murcia\, Plaza del Cardenal Belluga\, s/n\, Murcia\, Murcia\, 30001\, España
CATEGORIES:Concierto
ATTACH;FMTTYPE=image/jpeg:https://asociacionmerklin.es/wp-content/uploads/2025/10/WG.jpg
END:VEVENT
BEGIN:VEVENT
DTSTART;TZID=Europe/Madrid:20251210T203000
DTEND;TZID=Europe/Madrid:20251210T213000
DTSTAMP:20260423T005645
CREATED:20251209T193256Z
LAST-MODIFIED:20251209T193332Z
UID:539-1765398600-1765402200@asociacionmerklin.es
SUMMARY:Vincenzo di Betta y Federico Mauro Marcucci
DESCRIPTION:El 10 de diciembre a las 20:30h\, en la Iglesia del Carmen\, cerramos el ciclo Suenan los Órganos de 2025 con el concierto titulado “A Voce Sola”\, integrado en su mayor parte por obras de las escuelas napolitana\, romana y véneta del siglo XVII. Los intérpretes son Federico Mauro Marcucci\, contratenor de la Capilla Pontificia Sixtina\, y Vincenzo di Betta\, organista titular de Santa María in Portico in Campitelli (Roma). Consulta el programa aquí.
URL:https://asociacionmerklin.es/evento/vincenzo-di-betta-y-federico-mauro-marcucci
LOCATION:Iglesia del Carmen\, Plaza González Conde 1\, Murcia\, Murcia\, 30002\, España
ATTACH;FMTTYPE=image/jpeg:https://asociacionmerklin.es/wp-content/uploads/2025/12/a_voce_sola.jpg
END:VEVENT
BEGIN:VEVENT
DTSTART;TZID=Europe/Madrid:20260129T200000
DTEND;TZID=Europe/Madrid:20260129T210000
DTSTAMP:20260423T005645
CREATED:20260126T205652Z
LAST-MODIFIED:20260127T163411Z
UID:561-1769716800-1769720400@asociacionmerklin.es
SUMMARY:Jaime Martínez Vivancos
DESCRIPTION:El 29 de enero a las 20:00h\, en la Iglesia de San Miguel\, comenzamos el ciclo Suenan los Órganos de 2026 con el organista Jaime Martínez Vivancos. Consulta el programa aquí.
URL:https://asociacionmerklin.es/evento/jaime-martinez-vivancos
LOCATION:Iglesia de San Miguel\, Calle San Miguel 5\, Murcia\, Murcia\, 30005\, España
CATEGORIES:Concierto
ATTACH;FMTTYPE=image/jpeg:https://asociacionmerklin.es/wp-content/uploads/2026/01/Vivancos-Jaime-Martinez.jpg
END:VEVENT
BEGIN:VEVENT
DTSTART;TZID=Europe/Madrid:20260223T200000
DTEND;TZID=Europe/Madrid:20260223T210000
DTSTAMP:20260423T005645
CREATED:20260224T181120Z
LAST-MODIFIED:20260224T181125Z
UID:571-1771876800-1771880400@asociacionmerklin.es
SUMMARY:Marek Bochniak
DESCRIPTION:Concierto del organista polaco Marek Bochniak en la Catedral de Murcia. Puede consultar el programa aquí.
URL:https://asociacionmerklin.es/evento/marek-bochniak
LOCATION:Catedral de Murcia\, Plaza del Cardenal Belluga\, s/n\, Murcia\, Murcia\, 30001\, España
CATEGORIES:Concierto
ATTACH;FMTTYPE=image/jpeg:https://asociacionmerklin.es/wp-content/uploads/2023/10/Marek_Bochniak.jpg
END:VEVENT
BEGIN:VEVENT
DTSTART;TZID=Europe/Madrid:20260305T200000
DTEND;TZID=Europe/Madrid:20260305T210000
DTSTAMP:20260423T005645
CREATED:20260302T121702Z
LAST-MODIFIED:20260302T121702Z
UID:576-1772740800-1772744400@asociacionmerklin.es
SUMMARY:Trio Palladio
DESCRIPTION:Bajo el título “Viaje musical por la Europa barroca y romántica”\, el Trio Palladio\, formado por Michele Antonello (oboe)\, Steno Boesso (fagot) y Enrico Zanovello (órgano)\, nos ofrece un programa integrado por piezas del XVIII y XIX de compositores como Giovanni Benedetto Platti\, C. P. E. Bach\, Philippe Gatterman\, Ernst Richter\, Heinrich Molbe y Alfred Hill. El concierto tendrá lugar el 5 de marzo en la iglesia del Carmen\, a las 20:00. \nPrograma del concierto.
URL:https://asociacionmerklin.es/evento/trio-palladio
LOCATION:Iglesia del Carmen\, Plaza González Conde 1\, Murcia\, Murcia\, 30002\, España
CATEGORIES:Concierto
ATTACH;FMTTYPE=image/jpeg:https://asociacionmerklin.es/wp-content/uploads/2023/10/Trio-Palladio-organo-oboe-fagotto-bio.jpg
END:VEVENT
BEGIN:VEVENT
DTSTART;TZID=Europe/Madrid:20260316T203000
DTEND;TZID=Europe/Madrid:20260316T213000
DTSTAMP:20260423T005645
CREATED:20260311T110549Z
LAST-MODIFIED:20260311T232331Z
UID:582-1773693000-1773696600@asociacionmerklin.es
SUMMARY:Murcia Sacra
DESCRIPTION:El lunes 16\, a las 20:30h\, tendrá lugar un concierto en la Iglesia Conventual de Santa Ana bajo el título En los albores del órgano moderno: Correa y su tiempo. El intérprete será Javier Artigas. Este concierto es un homenaje al maestro sevillano con motivo del aniversario de la publicación de la Facultad Orgánica (Alcalá\, 1626). \nPrograma.
URL:https://asociacionmerklin.es/evento/murcia-sacra
LOCATION:Iglesia de Las Anas\, Plaza de Santa Ana\, 2\, Murcia\, Murcia\, 30008\, España
CATEGORIES:Concierto
ATTACH;FMTTYPE=image/jpeg:https://asociacionmerklin.es/wp-content/uploads/2023/10/foto_artigas.jpeg
END:VEVENT
BEGIN:VEVENT
DTSTART;TZID=Europe/Madrid:20260417T210000
DTEND;TZID=Europe/Madrid:20260417T220000
DTSTAMP:20260423T005645
CREATED:20260413T163907Z
LAST-MODIFIED:20260413T165211Z
UID:590-1776459600-1776463200@asociacionmerklin.es
SUMMARY:Concierto del Azahar 2026
DESCRIPTION:Como es costumbre en el mes de abril\, el próximo concierto del ciclo Suenan los Órganos tendrá lugar en la ermita de Ntra. Sra. de la Huerta de la pedanía murciana de Los Ramos. En esta ocasión\, el organista Carlos Rafael Pérez actuará junto con la Coral Discantus en un concierto titulado “Boleros y tangos en la Huerta de Murcia”. Puedes descargar el programa del concierto aquí.
URL:https://asociacionmerklin.es/evento/concierto-del-azahar-2026
LOCATION:Ermita de Ntra. Sra.de la Huerta\, Calle Conde de Almodóvar\, Los Ramos\, Murcia\, Murcia\, 30589\, España
CATEGORIES:Concierto
ATTACH;FMTTYPE=image/jpeg:https://asociacionmerklin.es/wp-content/uploads/2026/04/los_ramos-scaled.jpg
END:VEVENT
END:VCALENDAR