BEGIN:VCALENDAR
VERSION:2.0
PRODID:-//AMAORM - ECPv6.3.6//NONSGML v1.0//EN
CALSCALE:GREGORIAN
METHOD:PUBLISH
X-ORIGINAL-URL:https://asociacionmerklin.es
X-WR-CALDESC:Eventos para AMAORM
REFRESH-INTERVAL;VALUE=DURATION:PT1H
X-Robots-Tag:noindex
X-PUBLISHED-TTL:PT1H
BEGIN:VTIMEZONE
TZID:Europe/Madrid
BEGIN:DAYLIGHT
TZOFFSETFROM:+0100
TZOFFSETTO:+0200
TZNAME:CEST
DTSTART:20250330T010000
END:DAYLIGHT
BEGIN:STANDARD
TZOFFSETFROM:+0200
TZOFFSETTO:+0100
TZNAME:CET
DTSTART:20251026T010000
END:STANDARD
END:VTIMEZONE
BEGIN:VEVENT
DTSTART;TZID=Europe/Madrid:20250620T200000
DTEND;TZID=Europe/Madrid:20250620T210000
DTSTAMP:20260424T142709
CREATED:20250619T155413Z
LAST-MODIFIED:20250619T155413Z
UID:444-1750449600-1750453200@asociacionmerklin.es
SUMMARY:Stefano Pellini y Francesco Gibellini
DESCRIPTION:El viernes 20 de junio\, a las 20:00h\, tendrá lugar un nuevo concierto del ciclo “Suenan los Órganos” en la Iglesia del Carmen de Murcia. Los protagonistas del concierto serán el organista Stefano Pellini y el trompetista Francesco Gibellini. \nPrograma del concierto
URL:https://asociacionmerklin.es/evento/stefano-pellini-y-francesco-gibellini
LOCATION:Iglesia del Carmen\, Plaza González Conde 1\, Murcia\, Murcia\, 30002\, España
CATEGORIES:Concierto
ATTACH;FMTTYPE=image/jpeg:https://asociacionmerklin.es/wp-content/uploads/2025/06/pellini.jpg
END:VEVENT
END:VCALENDAR